BEGIN:VCALENDAR
VERSION:2.0
PRODID:-//wp-events-plugin.com//7.2.3.1//EN
BEGIN:VEVENT
UID:5@rang-e-mohabbat.com
DTSTART:20250803T000000Z
DTEND:20250805T000000Z
DTSTAMP:20260119T113821Z
URL:https://rang-e-mohabbat.com/events/summer-concert/
SUMMARY:Summer Concert
DESCRIPTION: As the summer sun sets and a gentle breeze stirs\, Rang-E-Moha
 bbat transforms an open sky into a sanctuary of melody—where music lover
 s gather to lose themselves in songs beneath the stars.
ATTACH;FMTTYPE=image/jpeg:https://rang-e-mohabbat.com/wp-content/uploads/2
 025/11/unnamed-2.jpg
END:VEVENT
END:VCALENDAR