BEGIN:VCALENDAR
VERSION:2.0
PRODID:-//wp-events-plugin.com//7.2.3.1//EN
BEGIN:VEVENT
UID:1@rang-e-mohabbat.com
DTSTART:20260111T000000Z
DTEND:20260111T000000Z
DTSTAMP:20260119T113633Z
URL:https://rang-e-mohabbat.com/events/holiday-gala/
SUMMARY:Holiday Gala
DESCRIPTION:Ring in the New Year in true Rang-E-Mohabbat style—an evening
  where soulful ghazals meet Bollywood beats\, and cherished traditions ble
 nd with celebrations to welcome fresh beginnings.
ATTACH;FMTTYPE=image/jpeg:https://rang-e-mohabbat.com/wp-content/uploads/2
 025/11/IMG_5272.jpeg
END:VEVENT
END:VCALENDAR