BEGIN:VCALENDAR
VERSION:2.0
PRODID:-//wp-events-plugin.com//7.2.3.1//EN
BEGIN:VEVENT
UID:3@rang-e-mohabbat.com
DTSTART:20260307T000000Z
DTEND:20260307T000000Z
DTSTAMP:20260119T113914Z
URL:https://rang-e-mohabbat.com/events/guruji-fundraising-event/
SUMMARY:Guru ji Fundraising Event
DESCRIPTION: A musical offering for Guru ji featuring America's best artist
 s—weaving together the romance of Ghazals\, the magic of Bollywood\, the
  depth of Sufi\, and the joy of Punjabi in one unforgettable evening.
ATTACH;FMTTYPE=image/jpeg:https://rang-e-mohabbat.com/wp-content/uploads/2
 025/12/Untitled-design-5-1.png
END:VEVENT
END:VCALENDAR