BEGIN:VCALENDAR
VERSION:2.0
PRODID:-//wp-events-plugin.com//7.2.3.1//EN
BEGIN:VEVENT
UID:4@rang-e-mohabbat.com
DTSTART:20251026T000000Z
DTEND:20251026T000000Z
DTSTAMP:20260119T113557Z
URL:https://rang-e-mohabbat.com/events/diwali-celebration/
SUMMARY:Diwali Celebration
DESCRIPTION: Step onto the set of "Rang-E-Mohabbat: My American Love" as we
  film a festive Diwali scene together—then stay to celebrate the festiva
 l of lights with the warmth of community\, music\, and joy.
ATTACH;FMTTYPE=image/jpeg:https://rang-e-mohabbat.com/wp-content/uploads/2
 025/12/image-16.png
END:VEVENT
END:VCALENDAR