BEGIN:VCALENDAR
VERSION:2.0
PRODID:-//wp-events-plugin.com//7.2.3.1//EN
BEGIN:VEVENT
UID:6@rang-e-mohabbat.com
DTSTART:20250622T000000Z
DTEND:20250623T000000Z
DTSTAMP:20260119T113734Z
URL:https://rang-e-mohabbat.com/events/annual-mehfil/
SUMMARY:Annual Mehfil
DESCRIPTION: America's finest ghazal voices unite for an unforgettable even
 ing\, guiding you through love's timeless journey—from the spark of Dilk
 ashi\, through the fire of Ishq\, to the bliss of Wisaal and the ache of F
 iraq.
ATTACH;FMTTYPE=image/jpeg:https://rang-e-mohabbat.com/wp-content/uploads/2
 025/11/DSC_9684-1-scaled.jpg
END:VEVENT
END:VCALENDAR